BEGIN:VCALENDAR
VERSION:2.0
PRODID:-//callutheran//NONSGML v1.0//EN
TZID:America/Los_Angeles
BEGIN:VEVENT
UID:uid1745@callutheran.edu
DTSTART:20081106T023000Z
DTEND:20081106T033000Z
SUMMARY:Post-Election Analysis
DESCRIPTION:Political science professors Herbert Gooch, Gregory Freeland, Jose
Marichal and Frederick Gordon will dissect the election results at the
presidential, congressional, state and local levels. They will also
address the significance and likely consequences of the results.\n\nEvent details: http://www.callutheran.edu/calendar/event/1745
LOCATION:Lundring Events Center
END:VEVENT
END:VCALENDAR