BEGIN:VCALENDAR
VERSION:2.0
PRODID:-//callutheran//NONSGML v1.0//EN
TZID:America/Los_Angeles
BEGIN:VEVENT
UID:uid2674@callutheran.edu
DTSTART:20120311T210000Z
DTEND:20120311T220000Z
SUMMARY:Latin Out of Bounds
DESCRIPTION:In a concert of Latin-inspired favorites, soprano Heidi Valencia Vas will explore traditional soprano repertoire and delve into mezzo-soprano and non-classical works.\n\nEvent details: http://www.callutheran.edu/calendar/event/2674
LOCATION:Samuelson Chapel
END:VEVENT
END:VCALENDAR