BEGIN:VCALENDAR
VERSION:2.0
PRODID:-//callutheran//NONSGML v1.0//EN
TZID:America/Los_Angeles
BEGIN:VEVENT
UID:uid2916@callutheran.edu
DTSTART:20130210T033000Z
DTEND:20130210T043000Z
SUMMARY:Elmer Ramsey, His Trumpet and Orchestra
DESCRIPTION:Elmer Ramsey, his trumpet and orchestra present a valentine concert featuring vocalists Nancy Osborne and Ned Rifken and clarinetist Dan Geeting.\n\nEvent details: http://www.callutheran.edu/calendar/event/2916
LOCATION:Samuelson Chapel
END:VEVENT
END:VCALENDAR