BEGIN:VCALENDAR
VERSION:2.0
PRODID:-//callutheran//NONSGML v1.0//EN
TZID:America/Los_Angeles
BEGIN:VEVENT
UID:uid3199@callutheran.edu
DTSTART:20140305T220000Z
DTEND:20140305T230000Z
SUMMARY:Stephen Hicks on &quot;Postmodernism and Its Discontents&quot;
DESCRIPTION:In this lecture, professor of philosophy Stephen Hicks (Rockford University) will discuss postmodernism’s themes and origins and its disquieting prospects for the future.\n\nEvent details: http://www.callutheran.edu/calendar/event/3199
LOCATION:Overton Hall
END:VEVENT
END:VCALENDAR