BEGIN:VCALENDAR
VERSION:2.0
PRODID:-//callutheran//NONSGML v1.0//EN
TZID:America/Los_Angeles
BEGIN:VEVENT
UID:uid3681@callutheran.edu
DTSTART:20160217T191500Z
DTEND:20160217T201500Z
SUMMARY:I, Robot and Humanlike Reasoning
DESCRIPTION:AJ Abdallat will share his experience in technology commercialization and creating high-tech startups, along with his lessons learned while navigating business in the science world. Engage with this speaker and register today!\n\nEvent details: http://www.callutheran.edu/calendar/event/3681
LOCATION:Preus-Brandt Forum
END:VEVENT
END:VCALENDAR