BEGIN:VCALENDAR
VERSION:2.0
PRODID:-//callutheran//NONSGML v1.0//EN
TZID:America/Los_Angeles
BEGIN:VEVENT
UID:uid4043@callutheran.edu
DTSTART:20171007T160000Z
DTEND:20171007T170000Z
SUMMARY:Bring Your Own Brain (BYOB)
DESCRIPTION:BYOB is an all-day event from 9 a.m. to 3 p.m. seeking solutions to challenges faced by individuals on the autism spectrum.\n\nEvent details: http://www.callutheran.edu/calendar/event/4043
LOCATION:Swenson Center for Social and Behavioral Sciences, Room 101
END:VEVENT
END:VCALENDAR