BEGIN:VCALENDAR
VERSION:2.0
PRODID:-//callutheran//NONSGML v1.0//EN
TZID:America/Los_Angeles
BEGIN:VEVENT
UID:uid4317@callutheran.edu
DTSTART:20181018T224500Z
DTEND:20181018T234500Z
SUMMARY:Moving from &#039;Hispanic-Serving&#039; to Culturally Sustaining: A Research-based Approach
DESCRIPTION:In this lecture, Marcos Pizarro offers reflections and research findings to aid Cal Lutheran, now a federally designated Hispanic-Serving Institution, in pursuit of its strategic priority of greater inclusion.\n\nEvent details: http://www.callutheran.edu/calendar/event/4317
LOCATION:Richter Hall
END:VEVENT
END:VCALENDAR