BEGIN:VCALENDAR
VERSION:2.0
PRODID:-//callutheran//NONSGML v1.0//EN
TZID:America/Los_Angeles
BEGIN:VEVENT
UID:uid4452@callutheran.edu
DTSTART:20190411T230000Z
DTEND:20190412T000000Z
SUMMARY:Film Screening and Poetry Reading: Anders Carlson-Wee
DESCRIPTION:Writer and performer Anders Carlson-Wee screens his co-directed film, Riding the Highline, and reads from his new book, The Low Passions. \n\nEvent details: http://www.callutheran.edu/calendar/event/4452
LOCATION:William Rolland Gallery of Fine Art
END:VEVENT
END:VCALENDAR