BEGIN:VCALENDAR
VERSION:2.0
PRODID:-//callutheran//NONSGML v1.0//EN
TZID:America/Los_Angeles
BEGIN:VEVENT
UID:uid5424@callutheran.edu
DTSTART:20220805T170000Z
DTEND:20220805T180000Z
SUMMARY:Impossible Dreams, Improbable Deeds &mdash; Pizarro and the Conquest of the Incas
DESCRIPTION:After Cortés conquered Mexico, his cousin Francisco Pizarro invaded Peru. He found, exploited, and then extended a native civil war which was to go on for decades. Who was Pizarro? How has his reputation fared over the last 500 years?\n\nEvent details: http://www.callutheran.edu/calendar/event/5424
LOCATION:HyFlex (Thousand Oaks Campus and Zoom)
END:VEVENT
END:VCALENDAR