BEGIN:VCALENDAR
VERSION:2.0
PRODID:-//callutheran//NONSGML v1.0//EN
TZID:America/Los_Angeles
BEGIN:VEVENT
UID:uid5575@callutheran.edu
DTSTART:20221018T020000Z
DTEND:20221018T030000Z
SUMMARY:Entrepreneurship Speaker Series: Petra Griffith, Wedbush Ventures
DESCRIPTION:Join entrepreneur Petra Griffith, managing director and CEO of Wedbush Ventures, for an evening of insightful conversation.\n\nEvent details: http://www.callutheran.edu/calendar/event/5575
LOCATION:Lundring Events Center
END:VEVENT
END:VCALENDAR