BEGIN:VCALENDAR
VERSION:2.0
PRODID:-//callutheran//NONSGML v1.0//EN
TZID:America/Los_Angeles
BEGIN:VEVENT
UID:uid5640@callutheran.edu
DTSTART:20230422T023000Z
DTEND:20230422T033000Z
SUMMARY:CLU String Symphony
DESCRIPTION:Join us for works composed by masters of the string orchestra genre including Gerald Finzi, Maurice Ravel, Ralph Vaughan Williams and more.\n\nEvent details: http://www.callutheran.edu/calendar/event/5640
LOCATION:Samuelson Chapel
END:VEVENT
END:VCALENDAR