BEGIN:VCALENDAR
VERSION:2.0
PRODID:-//callutheran//NONSGML v1.0//EN
TZID:America/Los_Angeles
BEGIN:VEVENT
UID:uid5647@callutheran.edu
DTSTART:20230429T023000Z
DTEND:20230429T033000Z
SUMMARY:Spring Concert
DESCRIPTION:The Wind Ensemble, conducted by Michael Hart, will perform a varied and eclectic program for woodwind, brass and percussion. The Wind Ensemble and String Symphony will join to close the concert with music for full orchestra.\n\nEvent details: http://www.callutheran.edu/calendar/event/5647
LOCATION:Samuelson Chapel
END:VEVENT
END:VCALENDAR