BEGIN:VCALENDAR
VERSION:2.0
PRODID:-//callutheran//NONSGML v1.0//EN
TZID:America/Los_Angeles
BEGIN:VEVENT
UID:uid5809@callutheran.edu
DTSTART:20230712T183000Z
DTEND:20230712T193000Z
SUMMARY:Giving USA 2023: A Virtual Lunch and Learn
DESCRIPTION:Join the Center for Nonprofit Leadership as we host a virtual forum with Cassie Carter, vice president for fundraising at Campbell & Company. Learn about trends from the 2023 Giving USA Annual Report and their implications for fundraising strategies and approaches with your nonprofit organization.\n\nEvent details: http://www.callutheran.edu/calendar/event/5809
LOCATION:Zoom PDT
END:VEVENT
END:VCALENDAR