BEGIN:VCALENDAR
VERSION:2.0
PRODID:-//callutheran//NONSGML v1.0//EN
TZID:America/Los_Angeles
BEGIN:VEVENT
UID:uid5943@callutheran.edu
DTSTART:20231025T230000Z
DTEND:20231026T000000Z
SUMMARY:Self-Care Workshops for Faculty, Staff, Students and the Public
DESCRIPTION:This mini retreat offers two free workshops with Val St. Germain, accomplished author and Rumi translator.\n\nEvent details: http://www.callutheran.edu/calendar/event/5943
LOCATION:Preus-Brandt Forum
END:VEVENT
END:VCALENDAR