BEGIN:VCALENDAR
VERSION:2.0
PRODID:-//callutheran//NONSGML v1.0//EN
TZID:America/Los_Angeles
BEGIN:VEVENT
UID:uid6026@callutheran.edu
DTSTART:20240315T020000Z
DTEND:20240315T030000Z
SUMMARY:&ldquo;Geisha Dreams, Love and Murder: The Life of Abe Sada&rdquo;
DESCRIPTION:“Life’s Uncertain Outcomes” is a history lecture series that considers people’s lived experiences and how historical circumstances and choices made by individuals and the decisions of others shaped the direction of their lives.
Lecturer: David Nelson, PhD\n\nEvent details: http://www.callutheran.edu/calendar/event/6026
LOCATION:Lundring Events Center
END:VEVENT
END:VCALENDAR