BEGIN:VCALENDAR
VERSION:2.0
PRODID:-//callutheran//NONSGML v1.0//EN
TZID:America/Los_Angeles
BEGIN:VEVENT
UID:uid6049@callutheran.edu
DTSTART:20240301T010000Z
DTEND:20240301T020000Z
SUMMARY:A Celebration of Black Excellence
DESCRIPTION:In celebration of Black History Month, the 2023-2024 cohort of the Community Scholars for Black Lives Fellowship Program will host a panel discussion with professionals in the financial, business, and healthcare industries.\n\nEvent details: http://www.callutheran.edu/calendar/event/6049
LOCATION:Lundring Events Center
END:VEVENT
END:VCALENDAR