BEGIN:VCALENDAR
VERSION:2.0
PRODID:-//callutheran//NONSGML v1.0//EN
TZID:America/Los_Angeles
BEGIN:VEVENT
UID:uid6412@callutheran.edu
DTSTART:20251002T223000Z
DTEND:20251002T233000Z
SUMMARY:Puerto Rico at CLU
DESCRIPTION:Exploring the vibrant world of Puerto Rican culture through the lens of music, identity, pop culture and gaming with guest speaker Juan Pablo Rivera.\n\nEvent details: http://www.callutheran.edu/calendar/event/6412
LOCATION:Ahmanson Science Center 100
END:VEVENT
END:VCALENDAR