BEGIN:VCALENDAR
VERSION:2.0
PRODID:-//callutheran//NONSGML v1.0//EN
TZID:America/Los_Angeles
BEGIN:VEVENT
UID:uid6510@callutheran.edu
DTSTART:20260508T184500Z
DTEND:20260508T194500Z
SUMMARY:Afternoon Organ Recital: The &Eacute;migr&eacute; Songbook
DESCRIPTION:Join guest artists Wendy Prober-Cohen and Audrey Yoder for a concert-lecture exploring how 20th-century migration shaped art song, jazz, Broadway and film music.\n\nEvent details: http://www.callutheran.edu/calendar/event/6510
LOCATION:Samuelson Chapel
END:VEVENT
END:VCALENDAR