BEGIN:VCALENDAR
VERSION:2.0
PRODID:-//callutheran//NONSGML v1.0//EN
TZID:America/Los_Angeles
BEGIN:VEVENT
UID:uid6556@callutheran.edu
DTSTART:20260427T183000Z
DTEND:20260427T193000Z
SUMMARY:Perspectives in Politics
DESCRIPTION:Discover how political science students are turning their academic knowledge into real-world impact.\n\nEvent details: http://www.callutheran.edu/calendar/event/6556
LOCATION:Soiland Humanities Building, room 112
END:VEVENT
END:VCALENDAR