BEGIN:VCALENDAR
VERSION:2.0
PRODID:-//callutheran//NONSGML v1.0//EN
TZID:America/Los_Angeles
BEGIN:VEVENT
UID:uid6557@callutheran.edu
DTSTART:20260425T233000Z
DTEND:20260426T003000Z
SUMMARY:2nd Annual Wine &amp; Beer Walk
DESCRIPTION:Join us for an evening of wine, beer, food and great company, and contribute to a great cause. All proceeds go directly back to supporting our student-athletes.\n\nEvent details: http://www.callutheran.edu/calendar/event/6557
LOCATION:William Rolland Stadium
END:VEVENT
END:VCALENDAR