BEGIN:VCALENDAR
VERSION:2.0
PRODID:-//callutheran//NONSGML v1.0//EN
TZID:America/Los_Angeles
BEGIN:VEVENT
UID:uid10134@callutheran.edu
DTSTART:20260128T190000Z
DTEND:20260128T220000Z
SUMMARY:Financial Aid 101
DESCRIPTION:Meet with a Financial Aid Counselor to discuss any financial aid questions you may have.
LOCATION:The Habit
END:VEVENT
END:VCALENDAR