BEGIN:VCALENDAR
VERSION:2.0
PRODID:-//callutheran//NONSGML v1.0//EN
TZID:America/Los_Angeles
BEGIN:VEVENT
UID:uid10152@callutheran.edu
DTSTART:20260213T000000Z
DTEND:20260213T010000Z
SUMMARY:&quot;You Must Become An Algorithmic Problem&quot;
DESCRIPTION:Cal Lutheran professor Jose Marichal, PhD, will discuss his new book, You Must Become An Algorithmic Problem.
LOCATION:Ullman Commons
END:VEVENT
END:VCALENDAR