BEGIN:VCALENDAR
VERSION:2.0
PRODID:-//callutheran//NONSGML v1.0//EN
TZID:America/Los_Angeles
BEGIN:VEVENT
UID:uid10198@callutheran.edu
DTSTART:20260209T210000Z
DTEND:20260514T230000Z
SUMMARY:Academic Advising Drop-Ins
DESCRIPTION:Drop-In academic advising is available for undergraduate students every weekday afternoon!
LOCATION:Kallas House 3259 Pioneer Ave
END:VEVENT
END:VCALENDAR