BEGIN:VCALENDAR
VERSION:2.0
PRODID:-//callutheran//NONSGML v1.0//EN
TZID:America/Los_Angeles
BEGIN:VEVENT
UID:uid10214@callutheran.edu
DTSTART:20260424T190000Z
DTEND:20260424T210000Z
SUMMARY:Foodie Friday: Plant Positivity
DESCRIPTION:Join Wellness Resources at Foodie Friday to pot your own plant and practice positivity!
LOCATION:Outdoor Classroom 
END:VEVENT
END:VCALENDAR