BEGIN:VCALENDAR
VERSION:2.0
PRODID:-//callutheran//NONSGML v1.0//EN
TZID:America/Los_Angeles
BEGIN:VEVENT
UID:uid10318@callutheran.edu
DTSTART:20260909T190000Z
DTEND:20260909T200000Z
SUMMARY: Career Pathways: Discover your Purpose
DESCRIPTION:Learn different ways to identify your passions, interests, strengths, and sense of purpose. Learn more about your personality from the career assessments and learn how to explore various vocations that suit you.
LOCATION:
END:VEVENT
END:VCALENDAR