BEGIN:VCALENDAR
VERSION:2.0
PRODID:-//callutheran//NONSGML v1.0//EN
TZID:America/Los_Angeles
BEGIN:VEVENT
UID:uid10319@callutheran.edu
DTSTART:20260910T210000Z
DTEND:20260910T220000Z
SUMMARY: Marketing U: How to Create an Epic Resume
DESCRIPTION:Need help putting together a resume? Learn how to format, use action verbs and buzzwords, utilize the newest trends and include internships and volunteer work and focus on skills employers are seeking. 
LOCATION:TBA
END:VEVENT
END:VCALENDAR