BEGIN:VCALENDAR
VERSION:2.0
PRODID:-//callutheran//NONSGML v1.0//EN
TZID:America/Los_Angeles
BEGIN:VEVENT
UID:uid10323@callutheran.edu
DTSTART:20260922T190000Z
DTEND:20260922T200000Z
SUMMARY:Social Media &amp; Your Career
DESCRIPTION:Learn the basics on how social media can help or hurt your career. We will also discuss how to maximize LinkedIn in your job search. LinkedIn tips include how to set up your profile, connect and network with employers, ask for introductions and recommendations, find job openings, and utilize advanced features.
LOCATION:
END:VEVENT
END:VCALENDAR