BEGIN:VCALENDAR
VERSION:2.0
PRODID:-//callutheran//NONSGML v1.0//EN
TZID:America/Los_Angeles
BEGIN:VEVENT
UID:uid10324@callutheran.edu
DTSTART:20260923T200000Z
DTEND:20260923T210000Z
SUMMARY: The Do&#039;s and Don&#039;ts of Applying to Grad School
DESCRIPTION:This workshop offers students who are thinking about higher education an introduction to the options and questions they will face. We will provide need-to-know tips on applying to various graduate programs; learn about the application process, timelines, getting started, writing essays, test prep, and letters of rec. and more. 
LOCATION:TBA
END:VEVENT
END:VCALENDAR