BEGIN:VCALENDAR
VERSION:2.0
PRODID:-//callutheran//NONSGML v1.0//EN
TZID:America/Los_Angeles
BEGIN:VEVENT
UID:uid10329@callutheran.edu
DTSTART:20261022T193000Z
DTEND:20261022T203000Z
SUMMARY: Interview Like a Pro
DESCRIPTION:Are you prepared for your next interview? We will give you tips on different types of questions, and how to a handle phone or a panel interview. This is an interactive workshop about how to effectively prepare before you go in. 
LOCATION:
END:VEVENT
END:VCALENDAR