BEGIN:VCALENDAR
VERSION:2.0
PRODID:-//callutheran//NONSGML v1.0//EN
TZID:America/Los_Angeles
BEGIN:VEVENT
UID:uid10330@callutheran.edu
DTSTART:20261027T210000Z
DTEND:20261027T220000Z
SUMMARY:Know your Worth: How to Negotiate the Best Salary
DESCRIPTION:Learn how to navigate through salary negotiations with employers. You will learn how to conduct salary research & how to sell your skills when answering different types of questions. 
LOCATION:TBA
END:VEVENT
END:VCALENDAR