BEGIN:VCALENDAR
VERSION:2.0
PRODID:-//callutheran//NONSGML v1.0//EN
TZID:America/Los_Angeles
BEGIN:VEVENT
UID:uid10331@callutheran.edu
DTSTART:20261103T200000Z
DTEND:20261103T210000Z
SUMMARY: College to Career
DESCRIPTION:Learn the secrets of being an amazing employee. This workshop will cover office etiquette, supervisor interactions, resolving problems, adapting to change, & communication at work. 
LOCATION:
END:VEVENT
END:VCALENDAR