BEGIN:VCALENDAR
VERSION:2.0
PRODID:-//callutheran//NONSGML v1.0//EN
TZID:America/Los_Angeles
BEGIN:VEVENT
UID:uid10332@callutheran.edu
DTSTART:20261105T220000Z
DTEND:20261105T230000Z
SUMMARY: US Job Search for Internationals
DESCRIPTION:
Are you an international student needing help with a resume, interview or job search? Confused or uncertain about how the job search works in the US? This workshop will review the job search process including creating cover letters and resumes, job search strategies, interview preparation, and how to deal with OPT, CPT, and Sponsorship issues. 
LOCATION:
END:VEVENT
END:VCALENDAR