BEGIN:VCALENDAR
VERSION:2.0
PRODID:-//callutheran//NONSGML v1.0//EN
TZID:America/Los_Angeles
BEGIN:VEVENT
UID:uid10334@callutheran.edu
DTSTART:20261117T200000Z
DTEND:20261117T210000Z
SUMMARY:Using AI for Your Job Search
DESCRIPTION:Using AI is about having 2–3 powerful apps on your phone, like ChatGPT, and knowing how to use the right prompts to save time and work smarter. In this workshop, we will show you how to leverage AI for resume writing, generating cover letter ideas, preparing strong interview responses, and even drafting personal statements. 
LOCATION:
END:VEVENT
END:VCALENDAR