BEGIN:VCALENDAR
VERSION:2.0
PRODID:-//callutheran//NONSGML v1.0//EN
TZID:America/Los_Angeles
BEGIN:VEVENT
UID:uid10337@callutheran.edu
DTSTART:20260504T200000Z
DTEND:20260504T220000Z
SUMMARY:Scoop Before You Study: Freshman Ice-Cream Social
DESCRIPTION:Calling all first-year students! Need a pick-me-up before Finals Week? Join Student Life at the Habit Patio for some free ice cream—on us!
LOCATION:The Habit Patio
END:VEVENT
END:VCALENDAR