BEGIN:VCALENDAR
VERSION:2.0
PRODID:-//callutheran//NONSGML v1.0//EN
TZID:America/Los_Angeles
BEGIN:VEVENT
UID:uid1254@callutheran.edu
DTSTART:20141025T150000Z
DTEND:20141025T230000Z
SUMMARY:CLU Day of Dance
DESCRIPTION:A full day of free, participatory dance events open to the community as well as CLU students; hosted by the CLU Theater Arts Department; through a grant from the Community Leaders Association; with opportunities to donate to World Dance for Humanity an or
LOCATION:Gilbert Sports and Fitness Center
END:VEVENT
END:VCALENDAR