BEGIN:VCALENDAR
VERSION:2.0
PRODID:-//callutheran//NONSGML v1.0//EN
TZID:America/Los_Angeles
BEGIN:VEVENT
UID:uid3558@callutheran.edu
DTSTART:20170211T010000Z
DTEND:20170213T010000Z
SUMMARY:Big Bear Mountain Trip
DESCRIPTION:Hot chocolate, eat s'mores, have tons of fun!!
LOCATION:Big Bear, California
END:VEVENT
END:VCALENDAR