BEGIN:VCALENDAR
VERSION:2.0
PRODID:-//callutheran//NONSGML v1.0//EN
TZID:America/Los_Angeles
BEGIN:VEVENT
UID:uid4277@callutheran.edu
DTSTART:20171116T020000Z
DTEND:20171116T040000Z
SUMMARY:World Fair
DESCRIPTION:Celebrate Cal Lutheran's Diversity and our History of Internationalization. 
LOCATION:Student Union
END:VEVENT
END:VCALENDAR