BEGIN:VCALENDAR
VERSION:2.0
PRODID:-//callutheran//NONSGML v1.0//EN
TZID:America/Los_Angeles
BEGIN:VEVENT
UID:uid4620@callutheran.edu
DTSTART:20180308T020000Z
DTEND:20180308T040000Z
SUMMARY:ASCLUG Presents: Chick Fil-A Drop In
DESCRIPTION:The first 150 CLU students can get free Chick Fil-A from ASCLUG!
LOCATION:Chick Fil-A
END:VEVENT
END:VCALENDAR