BEGIN:VCALENDAR
VERSION:2.0
PRODID:-//callutheran//NONSGML v1.0//EN
TZID:America/Los_Angeles
BEGIN:VEVENT
UID:uid6596@callutheran.edu
DTSTART:20200422T183000Z
DTEND:20200423T043000Z
SUMMARY:Team-Building Retreat for Internship
DESCRIPTION:
LOCATION:San Damiano Retreat Center in Danville
END:VEVENT
END:VCALENDAR