BEGIN:VCALENDAR
VERSION:2.0
PRODID:-//callutheran//NONSGML v1.0//EN
TZID:America/Los_Angeles
BEGIN:VEVENT
UID:uid7430@callutheran.edu
DTSTART:20210303T160000Z
DTEND:20210304T020000Z
SUMMARY:World Fair - Talent Show
DESCRIPTION:As part of the International Education Week programming, we invite all students to participate to our World Fair Talent Show  
LOCATION:
END:VEVENT
END:VCALENDAR