BEGIN:VCALENDAR
VERSION:2.0
PRODID:-//callutheran//NONSGML v1.0//EN
TZID:America/Los_Angeles
BEGIN:VEVENT
UID:uid7962@callutheran.edu
DTSTART:20220329T190000Z
DTEND:20220329T210000Z
SUMMARY:Women&#039;s History Month Luncheon
DESCRIPTION:The CCEI is hosting a Women's History Month Luncheon with Women leaders at Cal Lutheran, join us for free lunch and an opportunity to chat with some of our own Women leaders!
LOCATION:Student Union
END:VEVENT
END:VCALENDAR