BEGIN:VCALENDAR
VERSION:2.0
PRODID:-//callutheran//NONSGML v1.0//EN
TZID:America/Los_Angeles
BEGIN:VEVENT
UID:uid8417@callutheran.edu
DTSTART:20221025T233000Z
DTEND:20221026T013000Z
SUMMARY:Coffee and Kahoot!
DESCRIPTION:Join your favorite religion professors for afternoon coffee, snacks, and the trivia game, Kahoot. All are welcome! Majors and minors - please bring your friends. 
LOCATION:Swenson Science Center - Outdoor Tent
END:VEVENT
END:VCALENDAR