BEGIN:VCALENDAR
VERSION:2.0
PRODID:-//callutheran//NONSGML v1.0//EN
TZID:America/Los_Angeles
BEGIN:VEVENT
UID:uid8937@callutheran.edu
DTSTART:20231025T130000Z
DTEND:20231026T065500Z
SUMMARY:Apply to be a Campus Tour Guide!
DESCRIPTION:The Presidential Host program is looking for student tour guides!
LOCATION:
END:VEVENT
END:VCALENDAR