BEGIN:VCALENDAR
VERSION:2.0
PRODID:-//callutheran//NONSGML v1.0//EN
TZID:America/Los_Angeles
BEGIN:VEVENT
UID:uid8940@callutheran.edu
DTSTART:20231103T010000Z
DTEND:20231103T023000Z
SUMMARY:Entertainment Industry Panel 
DESCRIPTION:Interested in being in the entertainment industry? Learn more with PRSSA’s Entertainment Industry Panel. 
LOCATION:Swenson Center for Social and Behavioral Sciences
END:VEVENT
END:VCALENDAR