BEGIN:VCALENDAR
VERSION:2.0
PRODID:-//callutheran//NONSGML v1.0//EN
TZID:America/Los_Angeles
BEGIN:VEVENT
UID:uid9915@callutheran.edu
DTSTART:20260501T200000Z
DTEND:20260502T010000Z
SUMMARY:iCLU Radio CalLuPalooza
DESCRIPTION:iCLU Radio's annual music festival!
LOCATION:Peppergrove Park (Gumby side of Kingsmen Park)
END:VEVENT
END:VCALENDAR